BEGIN:VCALENDAR
VERSION:2.0
PRODID:-//ChamberMaster//Event Calendar 2.0//EN
METHOD:PUBLISH
X-PUBLISHED-TTL:P3D
REFRESH-INTERVAL:P3D
CALSCALE:GREGORIAN
BEGIN:VEVENT
DTSTART:20230308T220000Z
DTEND:20230309T020000Z
X-MICROSOFT-CDO-ALLDAYEVENT:FALSE
SUMMARY:Women United Woman of Achievement Dinner & Silent Auction
DESCRIPTION:Join Women United for our Woman of Achievement Dinner & Silent Auction on March 8th\, 2023!\n\n\n\nThis is our annual fundraiser where we honor a Licking County Woman of Achievement nominated by her peers. The Women United awards grants throughout the year to groups that provide services to women and children in Licking County. This event helps to fund those grants. Over the past four years\, we have awarded thousands of dollars in grants with the community's support!\n\n\n\nThis event includes dinner\, a dynamic speaker\, silent auction and a dessert dash. This years event will happen at DoubleTree Hotel located at 50 N 2nd Street\, Newark\, OH 43055 at 5:00 P.M. Register now at unitedwaylc.org as seats are limited.
X-ALT-DESC;FMTTYPE=text/html:<p><span style="color:#202124"><span style="font-family:arial nova\,sans-serif"><span style="font-size:12.0pt"><span style="font-family:times new roman">Join Women United for our Woman of Achievement Dinner &amp\; Silent Auction on March 8<sup>th</sup>\, 2023!<br />\n<br />\nThis is our annual fundraiser where we honor a Licking County Woman of Achievement nominated by her peers. The Women United awards grants throughout the year to groups that provide services to women and children in Licking County. This event helps to fund those grants. Over the past four years\, we have awarded thousands of dollars in grants with the community&rsquo\;s support!<br />\n<br />\nThis event includes dinner\, a dynamic speaker\, silent auction and a dessert dash. This years event will happen at DoubleTree Hotel located at 50 N 2nd Street\, Newark\, OH 43055 at 5:00 P.M. Register now at unitedwaylc.org as seats are limited.</span></span></span></span><br />\n&nbsp\;</p>\n
LOCATION:DoubleTree Hotel 50 N 2nd Street Newark\, OH 43055
UID:e.2415.3091
SEQUENCE:3
DTSTAMP:20260423T104356Z
URL:https://business.pataskalachamber.com/events/details/women-united-woman-of-achievement-dinner-silent-auction-3091
END:VEVENT

END:VCALENDAR
