BEGIN:VCALENDAR
VERSION:2.0
PRODID:-//ChamberMaster//Event Calendar 2.0//EN
METHOD:PUBLISH
X-PUBLISHED-TTL:P3D
REFRESH-INTERVAL:P3D
CALSCALE:GREGORIAN
BEGIN:VEVENT
DTSTART:20260915T153000Z
DTEND:20260915T170000Z
X-MICROSOFT-CDO-ALLDAYEVENT:FALSE
SUMMARY:September Chamber Meeting
DESCRIPTION:Join Us for the September Chamber Meeting!\n\nWe are excited to invite you to our September Chamber meeting. This month's event will be held at the Van Buren Acres and will feature a presentation from a knowledgeable panel of professionals with specific insight into business law. Take this opportunity to be able to "Ask A Lawyer" event!\n\nEvent Details:\n\n\n	Date: Tuesday\, September 15th\n	Time: 11:30- 1pm\n	Location: Van Buren Acres\n\n\nDon't miss this opportunity to network with fellow members\, gain valuable knowledge\, and contribute to our community's growth. \n\nWe look forward to seeing you there!
X-ALT-DESC;FMTTYPE=text/html:<p style="color: rgb(51\, 51\, 51)\; font-family: sans-serif\, Arial\, Verdana\, &quot\;Trebuchet MS&quot\;\; font-size: 28px\;"><span style="font-size: 36px\;"><span style="color: rgb(0\, 0\, 205)\;"><strong>Join Us for the September&nbsp\;Chamber Meeting!</strong></span></span></p>\n\n<p style="color: rgb(51\, 51\, 51)\; font-family: sans-serif\, Arial\, Verdana\, &quot\;Trebuchet MS&quot\;\; font-size: 28px\;">We are excited to invite you to our September&nbsp\;Chamber meeting. This month&#39\;s event will be held at the Van Buren Acres&nbsp\;and will feature a presentation&nbsp\;from a knowledgeable panel of professionals with specific insight into business law. Take this opportunity to be able to &quot\;Ask A Lawyer&quot\; event!</p>\n\n<p style="color: rgb(51\, 51\, 51)\; font-family: sans-serif\, Arial\, Verdana\, &quot\;Trebuchet MS&quot\;\; font-size: 28px\;"><strong>Event Details:</strong></p>\n\n<ul style="padding: 0px 40px\; color: rgb(51\, 51\, 51)\; font-family: sans-serif\, Arial\, Verdana\, &quot\;Trebuchet MS&quot\;\; font-size: 28px\;">\n	<li><strong>Date:</strong>&nbsp\;Tuesday\, September 15th</li>\n	<li><strong>Time:</strong>&nbsp\;11:30- 1pm</li>\n	<li><strong>Location:</strong>&nbsp\;Van Buren Acres</li>\n</ul>\n\n<p style="color: rgb(51\, 51\, 51)\; font-family: sans-serif\, Arial\, Verdana\, &quot\;Trebuchet MS&quot\;\; font-size: 28px\;">Don&#39\;t miss this opportunity to network with fellow members\, gain valuable knowledge\, and contribute to our community&#39\;s growth.&nbsp\;</p>\n\n<p style="color: rgb(51\, 51\, 51)\; font-family: sans-serif\, Arial\, Verdana\, &quot\;Trebuchet MS&quot\;\; font-size: 28px\;">We look forward to seeing you there!</p>\n
LOCATION:Van Buren Acres
UID:e.2415.3389
SEQUENCE:3
DTSTAMP:20260421T072627Z
URL:https://business.pataskalachamber.com/events/details/september-chamber-meeting-3389
END:VEVENT

END:VCALENDAR
