BEGIN:VCALENDAR
VERSION:2.0
PRODID:-//ChamberMaster//Event Calendar 2.0//EN
METHOD:PUBLISH
X-PUBLISHED-TTL:P3D
REFRESH-INTERVAL:P3D
CALSCALE:GREGORIAN
BEGIN:VEVENT
DTSTART:20230826T140000Z
DTEND:20230826T220000Z
X-MICROSOFT-CDO-ALLDAYEVENT:FALSE
SUMMARY:Ride United
DESCRIPTION:Join us for a motorcycle ride\, winding through the scenic routes in Licking County and visiting four agriculture stops. \n\nStops include BrenMar Sheep Farm/Luckhart Show Lambs at 2873 Palmer Road\, Hebron\, OH 43025\; Granville Milling Company at 400 S Main St\, Granville\, OH 43023\; Five Roots Vineyard at 12844 Foundation Road\, Croton\, OH 43013\; and Brown Farmstead\, LLC at 12160 Smoketown Road\, Utica\, OH 43080.\n\nTake a look at the route here: https://rb.gy/o4ha6.\n\nThe after party will be at The Moose located at 235 West National Drive\, Newark\, OH 43055. Enjoy a low country boil\, refreshments\, entertainment\, an auction\, 50/50 and more!\n\n\n\nThank you to our premier sponsors Licking Memorial Health Systems\, Denison University\, The Hinderer Motor Company\, and Nationwide Insurance\, and thank you to Covestro for sponsoring this event!
X-ALT-DESC;FMTTYPE=text/html:<p><span style="font-size:1rem">Join us for a motorcycle ride\, winding through the scenic routes in Licking County and visiting four agriculture stops.&nbsp\;</span></p>\n\n<p><span style="font-size:1rem">Stops include BrenMar Sheep Farm/Luckhart Show Lambs at 2873 Palmer Road\, Hebron\, OH 43025\; Granville Milling Company at 400 S Main St\, Granville\, OH 43023\; Five Roots Vineyard at 12844 Foundation Road\, Croton\, OH 43013\; and Brown Farmstead\, LLC at 12160 Smoketown Road\, Utica\, OH 43080.</span></p>\n\n<p><span style="font-size:1rem">Take a look at the route here:&nbsp\;</span><a href="https://rb.gy/o4ha6" style="box-sizing: border-box\; text-decoration-line: none\; color: rgb(83\, 158\, 208)\; transition: all 0.2s linear 0s\; box-shadow: none\; font-size: 1rem\;" target="_blank">https://rb.gy/o4ha6</a>.</p>\n\n<p><span style="font-size:1rem">The after party will be at The Moose located at 235 West National Drive\, Newark\, OH 43055. Enjoy a low country boil\, refreshments\, entertainment\, an auction\, 50/50 and more!</span><br />\n<br />\nThank you to our premier sponsors Licking Memorial Health Systems\, Denison University\, The Hinderer Motor Company\, and Nationwide Insurance\, and thank you to Covestro for sponsoring this event!</p>\n
LOCATION:Licking County\, Ohio
UID:e.2415.3196
SEQUENCE:3
DTSTAMP:20260420T232050Z
URL:https://business.pataskalachamber.com/events/details/ride-united-08-26-2023-3196
END:VEVENT

END:VCALENDAR
