BEGIN:VCALENDAR
VERSION:2.0
PRODID:-//ChamberMaster//Event Calendar 2.0//EN
METHOD:PUBLISH
X-PUBLISHED-TTL:P3D
REFRESH-INTERVAL:P3D
CALSCALE:GREGORIAN
BEGIN:VEVENT
DTSTART:20230623T200000Z
DTEND:20230623T230000Z
X-MICROSOFT-CDO-ALLDAYEVENT:FALSE
SUMMARY:Pataskala Farmers Market 2023
DESCRIPTION:The Pataskala Farmer's Market runs June 2nd through September 1st on Fridays from 4-7 PM. Come check out our local vendors selling everything from produce to honey to meats and cheeses to baked goods and crafts!
X-ALT-DESC;FMTTYPE=text/html:<br />\n<span style="color: rgb(29\, 33\, 41)\; font-family: Georgia\, serif\; font-size: 17px\; white-space: pre-wrap\; background-color: rgb(255\, 255\, 255)\;">The Pataskala Farmer&#39\;s Market runs June 2nd through September 1st on Fridays from 4-7 PM. Come check out our local vendors selling everything from produce to honey to meats and cheeses to baked goods and crafts!</span>
LOCATION:Veterans Green Rt 310 & Front St Pataskala\, OH 43062
UID:e.2415.3117
SEQUENCE:3
DTSTAMP:20260421T044738Z
URL:https://business.pataskalachamber.com/events/details/pataskala-farmers-market-2023-06-23-2023-3117
END:VEVENT

END:VCALENDAR
