BEGIN:VCALENDAR
VERSION:2.0
PRODID:-//ChamberMaster//Event Calendar 2.0//EN
METHOD:PUBLISH
X-PUBLISHED-TTL:P3D
REFRESH-INTERVAL:P3D
CALSCALE:GREGORIAN
BEGIN:VEVENT
DTSTART:20230922T130000Z
DTEND:20230924T220000Z
X-MICROSOFT-CDO-ALLDAYEVENT:FALSE
SUMMARY:Pataskala Antique Power Show 2023
DESCRIPTION:Pataskala Antique Power Show\n\n\n\nCome down to the beautiful Foundation Park for a action packed weekend full of Tractor Pulls\, Antique/Flea Market and crafts\, Hit + Miss Engines\, Lawn & Garden Tractor Pulls\, Car Show\, Camping\, Quad Pulls\, Music\, Food\, Pie Baking Contest and Raffles!!\n\n\n\nBusinesses looking for a fun way to market their goods and services contact Mike Compton at 740-919-1929.
X-ALT-DESC;FMTTYPE=text/html:<span style="color:#000000\;">Pataskala Antique Power Show</span><br />\n<br />\nCome down to the beautiful Foundation Park for a action packed weekend full of Tractor Pulls\, Antique/Flea Market and crafts\, Hit + Miss Engines\, Lawn &amp\; Garden Tractor Pulls\, Car Show\, Camping\, Quad Pulls\, Music\, Food\, Pie Baking Contest and Raffles!!<br />\n<br />\nBusinesses looking for a fun way to market their goods and services contact&nbsp\;Mike Compton at 740-919-1929.<br />\n<br />\n<br />\n<br />\n<br />\n<br />\n<br />\n&nbsp\;
LOCATION:Foundation Park 10255 McIntosh Rd Pataskala\, OH 43062
UID:e.2415.3096
SEQUENCE:3
DTSTAMP:20260425T185029Z
URL:https://business.pataskalachamber.com/events/details/pataskala-antique-power-show-2023-3096
END:VEVENT

END:VCALENDAR
