BEGIN:VCALENDAR
VERSION:2.0
PRODID:-//ChamberMaster//Event Calendar 2.0//EN
METHOD:PUBLISH
X-PUBLISHED-TTL:P3D
REFRESH-INTERVAL:P3D
CALSCALE:GREGORIAN
BEGIN:VEVENT
DTSTART:20230713T133000Z
DTEND:20230713T170000Z
X-MICROSOFT-CDO-ALLDAYEVENT:FALSE
SUMMARY:META Social Media Marketing Training
DESCRIPTION:Sponsored by the Granville Chamber Alliance\n\n\n\nSmall Business Studios is an interactive\, in-person experience filled with training and 1:1 support.\n\nTopics Covered\n\n\n	Getting your online presence ready\n	Creating interactive content\n	Increasing sales\n	Managing your online presence\n	Expanding your team\n\n\nLed by a Certified Lead Trainer with the META Small Business Team\, come experience this training firsthand!
X-ALT-DESC;FMTTYPE=text/html:<p style="box-sizing: border-box\; margin: 0px 0px 1rem\; color: rgb(68\, 68\, 68)\; font-family: Lato\, sans-serif\; font-size: 16px\;"><span style="box-sizing: border-box\;"><span style="box-sizing: border-box\; font-weight: bolder\;">Sponsored by the Granville Chamber Alliance</span></span><br style="box-sizing: border-box\;" />\n<br style="box-sizing: border-box\;" />\nSmall Business Studios is an interactive\, in-person experience filled with training and 1:1 support.<br style="box-sizing: border-box\;" />\n<span style="box-sizing: border-box\; font-weight: bolder\;">Topics Covered</span></p>\n\n<ul style="box-sizing: border-box\; margin-top: 0px\; margin-bottom: 1rem\; color: rgb(68\, 68\, 68)\; font-family: Lato\, sans-serif\; font-size: 16px\;">\n	<li style="box-sizing: border-box\; margin: 0px\;">Getting your online presence ready</li>\n	<li style="box-sizing: border-box\; margin: 0px\;">Creating interactive content</li>\n	<li style="box-sizing: border-box\; margin: 0px\;">Increasing sales</li>\n	<li style="box-sizing: border-box\; margin: 0px\;">Managing your online presence</li>\n	<li style="box-sizing: border-box\; margin: 0px\;">Expanding your team</li>\n</ul>\n\n<p style="box-sizing: border-box\; margin: 0px 0px 1rem\; outline: 0px\; color: rgb(68\, 68\, 68)\; font-family: Lato\, sans-serif\; font-size: 16px\;">Led by a Certified Lead Trainer with the META Small Business Team\, come experience this training firsthand!</p>\n
LOCATION:Granville Inn
UID:e.2415.3193
SEQUENCE:3
DTSTAMP:20260421T025005Z
URL:https://business.pataskalachamber.com/events/details/meta-social-media-marketing-training-3193
END:VEVENT

END:VCALENDAR
