BEGIN:VCALENDAR
VERSION:2.0
PRODID:-//ChamberMaster//Event Calendar 2.0//EN
METHOD:PUBLISH
X-PUBLISHED-TTL:P3D
REFRESH-INTERVAL:P3D
CALSCALE:GREGORIAN
BEGIN:VEVENT
DTSTART:20230529T140000Z
DTEND:20230529T153000Z
X-MICROSOFT-CDO-ALLDAYEVENT:FALSE
SUMMARY:Memorial Day Service 2023
DESCRIPTION:Please come and join the City of Pataskala for a Memorial Day Ceremony beginning at 10:00 am at the Pataskala Cemetery and continuing  at 11:00 am at Veterans Green.
X-ALT-DESC;FMTTYPE=text/html:<br />\n<span style="font-size:16px\;"><span style="color:#000000\;"><span style="font-family: Helvetica\, Arial\, sans-serif\; background-color: rgb(255\, 255\, 255)\;">Please come and join the City of Pataskala for a Memorial Day Ceremony beginning at 10:00 am at the Pataskala Cemetery and continuing&nbsp\; at 11:00 am at Veterans Green.</span></span></span>
LOCATION:Pataskala Cemetery Veterans Memorial
UID:e.2415.3187
SEQUENCE:3
DTSTAMP:20260421T064116Z
URL:https://business.pataskalachamber.com/events/details/memorial-day-service-2023-3187
END:VEVENT

END:VCALENDAR
