BEGIN:VCALENDAR
VERSION:2.0
PRODID:-//ChamberMaster//Event Calendar 2.0//EN
METHOD:PUBLISH
X-PUBLISHED-TTL:P3D
REFRESH-INTERVAL:P3D
CALSCALE:GREGORIAN
BEGIN:VEVENT
DTSTART:20230826T130000Z
DTEND:20230826T150000Z
X-MICROSOFT-CDO-ALLDAYEVENT:FALSE
SUMMARY:Meditation Trail Mosey Wellness Workshop
DESCRIPTION:Join us at the farm for a self-guided mosey of our meditation trail. The donkey herd will be wondering the beautiful farm property with you. Choose your own adventure on our meditation trail! We will provide you with a map of all of our meditation stops around the farm so you can choose which ones you want to visit\, how long to linger with the prompts and when to move on. Our herd of 6 therapy donkeys will be moseying around the beautiful property with you. Apll are welcome to join us. Please dress for the weather. We recommend comfortable shoes for walking on uneven ground in wooded areas. When: Saturday\, August 26th from 9:00 AM - 11:00 AM Where: 9800 Jug St NW\, Pataskala\, OH 43062 General Admission: $10 Family Admission: $25
X-ALT-DESC;FMTTYPE=text/html:Join us at the farm for a self-guided mosey of our meditation trail. The donkey herd will be wondering the beautiful farm property with you. Choose your own adventure on our meditation trail! We will provide you with a map of all of our meditation stops around the farm so you can choose which ones you want to visit\, how long to linger with the prompts and when to move on. Our herd of 6 therapy donkeys will be moseying around the beautiful property with you. Apll are welcome to join us. Please dress for the weather. We recommend comfortable shoes for walking on uneven ground in wooded areas. When: Saturday\, August 26th from 9:00 AM - 11:00 AM Where: 9800 Jug St NW\, Pataskala\, OH 43062 General Admission: $10 Family Admission: $25
LOCATION:PBJ Connections Barn 9800 Jug St NW\, Pataskala\, OH 43062
UID:e.2415.3195
SEQUENCE:3
DTSTAMP:20260420T231957Z
URL:https://business.pataskalachamber.com/events/details/meditation-trail-mosey-wellness-workshop-3195
END:VEVENT

END:VCALENDAR
