BEGIN:VCALENDAR
VERSION:2.0
PRODID:-//ChamberMaster//Event Calendar 2.0//EN
METHOD:PUBLISH
X-PUBLISHED-TTL:P3D
REFRESH-INTERVAL:P3D
CALSCALE:GREGORIAN
BEGIN:VEVENT
DTSTART:20230516T153000Z
DTEND:20230516T170000Z
X-MICROSOFT-CDO-ALLDAYEVENT:FALSE
SUMMARY:May Chamber Meeting 2023
DESCRIPTION:May Chamber Meeting\n\n\n\nMay 16\, 2023 - 11:30 - 1:00 pm\n\nPataskala United Methodist Church\n\n458 S Main St.\, Pataskala\n\n\n\nMain Speaker:  Jennifer Roberts/Thomas J. Evans Foundation\n\nTopic:  Framework Project Update\n\nFRAMEWORK Communities of Licking County Shaping Tomorrow Together    Jennifer Roberts\, Executive Director of the Thomas J. Evans Foundation will provide an update on the project work to date including the second round of public engagement and detail what is to come in the next 90 days as the team works to wrap up the project.   Learn about the third and final round of public engagement that will be taking place in June\n\nCaterer:  Tic Tac Taco
X-ALT-DESC;FMTTYPE=text/html:<span style="font-family:arial\;"><span style="color:#000080\;"><span style="font-size:22px\;"><span font-size:="" trebuchet=""><strong>May Chamber Meeting<br />\n<br />\nMay 16\, 2023 - 11:30 - 1:00 pm<br />\nPataskala United Methodist Church</strong></span><br />\n<strong>458 S Main St</strong></span></span>.<span style="color:#000080\;"><span style="font-size:22px\;"><span font-size:="" trebuchet=""><strong>\, Pataskala<br />\n<br />\nMain Speaker:&nbsp\; Jennifer Roberts/Thomas J. Evans Foundation<br />\nTopic:&nbsp\; Framework Project Update</strong></span></span><br />\n<strong><span style="font-size:22px\;">FRAMEWORK Communities of Licking County Shaping Tomorrow Together &ndash\;&nbsp\; Jennifer Roberts\, Executive Director of the Thomas J. Evans Foundation will provide an update on the project work to date including the second round of public engagement and detail what is to come in the next 90 days as the team works to wrap up the project.&nbsp\; &nbsp\;Learn about the third and final round of public engagement that will be taking place in June</span></strong></span></span>\n<div font-size:="" style="color: rgb(51\, 51\, 51)\; font-family: sans-serif\, Arial\, Verdana\, " trebuchet="">\n<p><span style="font-family:arial\;"><span style="color:#000080\;"><span style="font-size:22px\;"><strong>Caterer:&nbsp\; Tic Tac Taco</strong></span></span></span><br />\n<br />\n<br />\n<br />\n&nbsp\;</p>\n</div>\n
LOCATION:Pataskala United Methodist Church 458 S Main St Pataskala\, OH 43062
UID:e.2415.3088
SEQUENCE:3
DTSTAMP:20260421T064305Z
URL:https://business.pataskalachamber.com/events/details/may-chamber-meeting-2023-3088
END:VEVENT

END:VCALENDAR
