BEGIN:VCALENDAR
VERSION:2.0
PRODID:-//ChamberMaster//Event Calendar 2.0//EN
METHOD:PUBLISH
X-PUBLISHED-TTL:P3D
REFRESH-INTERVAL:P3D
CALSCALE:GREGORIAN
BEGIN:VEVENT
DTSTART:20230604T190000Z
DTEND:20230604T203000Z
X-MICROSOFT-CDO-ALLDAYEVENT:FALSE
SUMMARY:Kids Eat Free Summer Lunch Program
DESCRIPTION:Kids Eat Free Summer Lunch Program provides meals to children during summer break. The meals are packed lunches with single serve and kid friendly foods. Each child receives a bag with 5 lunches for the week. Every child is welcome-no questions asked. Distribution on Sundays 3-4:30pm. Volunteers also needed on Sundays.
X-ALT-DESC;FMTTYPE=text/html:<span style="font-size:14px\;">Kids Eat Free Summer Lunch Program provides meals to children during summer break. The meals are packed lunches with single serve and kid friendly foods. Each child receives a bag with 5 lunches for the week. Every child is welcome-no questions asked. Distribution on Sundays 3-4:30pm. Volunteers also needed on Sundays.</span>
LOCATION:Pataskala United Methodist Church 458 S Main St Pataskala\, OH 43062
UID:e.2415.3175
SEQUENCE:3
DTSTAMP:20260421T043958Z
URL:https://business.pataskalachamber.com/events/details/kids-eat-free-summer-lunch-program-3175
END:VEVENT

END:VCALENDAR
