BEGIN:VCALENDAR
VERSION:2.0
PRODID:-//ChamberMaster//Event Calendar 2.0//EN
METHOD:PUBLISH
X-PUBLISHED-TTL:P3D
REFRESH-INTERVAL:P3D
CALSCALE:GREGORIAN
BEGIN:VEVENT
DTSTART:20230520T110000Z
DTEND:20230520T180000Z
X-MICROSOFT-CDO-ALLDAYEVENT:FALSE
SUMMARY:Healing with Horsepower Car Show
DESCRIPTION:Join us for food\, fun and a great cause! Check out the Facebook Event for more details - https://fb.me/e/3jVap2OiK ~ Do You Have A Cool Car? All makes and models are welcome to join us for a chance to win one of 10 "Best Of" categories or the People's Choice Award! Register Here - https://carshowpro.com/event/1111
X-ALT-DESC;FMTTYPE=text/html:Join us for food\, fun and a great cause! Check out the Facebook Event for more details - https://fb.me/e/3jVap2OiK ~ Do You Have A Cool Car? All makes and models are welcome to join us for a chance to win one of 10 &ldquo\;Best Of&rdquo\; categories or the People&rsquo\;s Choice Award! Register Here - https://carshowpro.com/event/1111
LOCATION:Five14 Church 744 N HAMILTON RD COLUMBUS\, OH 43230
UID:e.2415.3164
SEQUENCE:3
DTSTAMP:20260421T064736Z
URL:https://business.pataskalachamber.com/events/details/healing-with-horsepower-car-show-3164
END:VEVENT

END:VCALENDAR
