BEGIN:VCALENDAR
VERSION:2.0
PRODID:-//ChamberMaster//Event Calendar 2.0//EN
METHOD:PUBLISH
X-PUBLISHED-TTL:P3D
REFRESH-INTERVAL:P3D
CALSCALE:GREGORIAN
BEGIN:VEVENT
DTSTART:20240423T140000Z
DTEND:20240423T150000Z
X-MICROSOFT-CDO-ALLDAYEVENT:FALSE
SUMMARY:English Language Learners FREE Adult Class
DESCRIPTION:English Language Learners Free Adult Class Every Tuesday 10-11am Experienced Instructor
X-ALT-DESC;FMTTYPE=text/html:English Language Learners Free Adult Class Every Tuesday 10-11am Experienced Instructor
LOCATION:Pataskala United Methodist Church 458 S. Main St. Pataskala
UID:e.2415.3268
SEQUENCE:3
DTSTAMP:20260420T090406Z
URL:https://business.pataskalachamber.com/events/details/english-language-learners-free-adult-class-3268
END:VEVENT

END:VCALENDAR
