BEGIN:VCALENDAR
VERSION:2.0
PRODID:-//ChamberMaster//Event Calendar 2.0//EN
METHOD:PUBLISH
X-PUBLISHED-TTL:P3D
REFRESH-INTERVAL:P3D
CALSCALE:GREGORIAN
BEGIN:VEVENT
DTSTART:20230624T170000Z
DTEND:20230624T210000Z
X-MICROSOFT-CDO-ALLDAYEVENT:FALSE
SUMMARY:Come Celebrate Jesus and His Love
DESCRIPTION:Come Celebrate Jesus and His Love anointed Gospel Singing\, Ministry outreach\, free food and refreshments\, activities and Crafts for children. open to the public and sponsored by: The Full Gospel Sons Church of God. 159 Cedar Park Blvd SW Etna\, OH 43062
X-ALT-DESC;FMTTYPE=text/html:Come Celebrate Jesus and His Love anointed Gospel Singing\, Ministry outreach\, free food and refreshments\, activities and Crafts for children. open to the public and sponsored by: The Full Gospel Sons Church of God. 159 Cedar Park Blvd SW Etna\, OH 43062
LOCATION:81 Liberty Street Etna\, OH 43018 High Point Park
UID:e.2415.3166
SEQUENCE:3
DTSTAMP:20260421T044328Z
URL:https://business.pataskalachamber.com/events/details/come-celebrate-jesus-and-his-love-3166
END:VEVENT

END:VCALENDAR
