BEGIN:VCALENDAR
VERSION:2.0
PRODID:-//ChamberMaster//Event Calendar 2.0//EN
METHOD:PUBLISH
X-PUBLISHED-TTL:P3D
REFRESH-INTERVAL:P3D
CALSCALE:GREGORIAN
BEGIN:VEVENT
DTSTART:20230318T130000Z
DTEND:20230318T140000Z
X-MICROSOFT-CDO-ALLDAYEVENT:FALSE
SUMMARY:Coffee Club - Estate Planning: 5 Steps to Guide You
DESCRIPTION:You're invited ... Join us for the next meeting of our Coffee Club.  Discussing current events\, the economy\, and investing - in a relaxed\, informal setting - is a great way to get to know one another.  Plus the coffee's on us.  Refreshments will be served.  Please call us today to let us know if you and a guest will attend.  We look forward to seeing you.  \n\n\n\nEdward Jones - Shawn G Whitt\n\n(740) 964-9227
X-ALT-DESC;FMTTYPE=text/html:You&#39\;re invited ... Join us for the next meeting of our Coffee Club.&nbsp\; Discussing current events\, the economy\, and investing - in a relaxed\, informal setting - is a great way to get to know one another.&nbsp\; Plus the coffee&#39\;s on us.&nbsp\; Refreshments will be served.&nbsp\; Please call us today to let us know if you and a guest will attend.&nbsp\; We look forward to seeing you.&nbsp\;&nbsp\;<br />\n<br />\nEdward Jones - Shawn G Whitt<br />\n(740) 964-9227<br />\n&nbsp\;
LOCATION:623 W Broad Street Pataskala Police Department - Community Meeting Room Pataskala\, OH 43062
UID:e.2415.3136
SEQUENCE:3
DTSTAMP:20260421T085202Z
URL:https://business.pataskalachamber.com/events/details/coffee-club-estate-planning-5-steps-to-guide-you-3136
END:VEVENT

END:VCALENDAR
