BEGIN:VCALENDAR
VERSION:2.0
PRODID:-//ChamberMaster//Event Calendar 2.0//EN
METHOD:PUBLISH
X-PUBLISHED-TTL:P3D
REFRESH-INTERVAL:P3D
CALSCALE:GREGORIAN
BEGIN:VEVENT
DTSTART:20230504T213000Z
DTEND:20230504T233000Z
X-MICROSOFT-CDO-ALLDAYEVENT:FALSE
SUMMARY:Business After Hours TrueCore Federal Credit Union
DESCRIPTION:TrueCore Federal Credit Union looks forward to meeting you! \n\n\n\nPlease join them for their first-ever Open House on Thursday\, May 4 from 5:30-7:30 p.m. at TrueCore's Pataskala office located at 997 Oxford Drive North\, next to Kroger.  Enjoy hors d'oeuvres\, dessert\, beer\, and wine.  Attendees will have an opportunity to meet the staff and management at TrueCore\, and they'll get a chance to win a total of $500 in cash prizes.\n\n\n\nPlease register if you can attend.
X-ALT-DESC;FMTTYPE=text/html:<span style="color:#000000\;"><span style="font-family:arial\,sans-serif\;"><span style="font-size:12.0pt\;">TrueCore Federal Credit Union looks forward to meeting you!&nbsp\;<br />\n<br />\nPlease join them for their first-ever Open House on Thursday\, May 4 from 5:30-7:30 p.m. at TrueCore&rsquo\;s Pataskala office located at <span style="background:white\;">997 Oxford Drive North\, next to Kroger.&nbsp\; </span>Enjoy hors d&rsquo\;oeuvres\, dessert\, beer\, and wine.&nbsp\; Attendees will have an opportunity to meet the staff and management at TrueCore\, and they&rsquo\;ll get a chance to win a total of $500 in cash prizes.<br />\n<br />\nPlease register if you can attend.</span></span></span>
LOCATION:TrueCore Federal Credit Union 997 Oxford Drive N Pataskala\, OH 43062
UID:e.2415.3156
SEQUENCE:3
DTSTAMP:20260421T064858Z
URL:https://business.pataskalachamber.com/events/details/business-after-hours-truecore-federal-credit-union-3156
END:VEVENT

END:VCALENDAR
