BEGIN:VCALENDAR
VERSION:2.0
PRODID:-//ChamberMaster//Event Calendar 2.0//EN
METHOD:PUBLISH
X-PUBLISHED-TTL:P3D
REFRESH-INTERVAL:P3D
CALSCALE:GREGORIAN
BEGIN:VEVENT
DTSTART:20230530T153000Z
DTEND:20230530T173000Z
X-MICROSOFT-CDO-ALLDAYEVENT:FALSE
SUMMARY:Board Meeting
DESCRIPTION:Board of Directors Meeting
X-ALT-DESC;FMTTYPE=text/html:Board of Directors Meeting
LOCATION:Pataskala Chamber Office 430 S Main St Pataskala\, OH 43062
UID:e.2415.3065
SEQUENCE:3
DTSTAMP:20260421T064203Z
URL:https://business.pataskalachamber.com/events/details/board-meeting-05-30-2023-3065
END:VEVENT

END:VCALENDAR
