BEGIN:VCALENDAR
VERSION:2.0
PRODID:-//ChamberMaster//Event Calendar 2.0//EN
METHOD:PUBLISH
X-PUBLISHED-TTL:P3D
REFRESH-INTERVAL:P3D
CALSCALE:GREGORIAN
BEGIN:VEVENT
DTSTART:20230319T143000Z
DTEND:20230319T183000Z
X-MICROSOFT-CDO-ALLDAYEVENT:FALSE
SUMMARY:Blood Drive
DESCRIPTION:Blood Drive Hosted by Pataskala United Methodist Church. Donations stay local and help patients at OSU's Wexner Medical Center. Appointments preferred\, walk-ins welcome.\n\nSign up here:\n\nhttps://donate.ohio.versiti.org/donor/schedules/drive_schedule/219094?fbclid=IwAR1ntGrm7oQGYCfwWnAE49nSCTFvN0Q_lYTWtHaDjCNPwJEk1srQ3LbUt8w
X-ALT-DESC;FMTTYPE=text/html:Blood Drive Hosted by Pataskala United Methodist Church. Donations stay local and help patients at OSU&#39\;s Wexner Medical Center. Appointments preferred\, walk-ins welcome.<br />\nSign up here:<br />\n<a href="http://&#8203\;https://donate.ohio.versiti.org/donor/schedules/drive_schedule/219094?fbclid=IwAR1ntGrm7oQGYCfwWnAE49nSCTFvN0Q_lYTWtHaDjCNPwJEk1srQ3LbUt8w" target="_blank">https://donate.ohio.versiti.org/donor/schedules/drive_schedule/219094?fbclid=IwAR1ntGrm7oQGYCfwWnAE49nSCTFvN0Q_lYTWtHaDjCNPwJEk1srQ3LbUt8w</a>
LOCATION:Pataskala United Methodist Church 458 S. Main St. Pataskala\, OH 43062
UID:e.2415.3100
SEQUENCE:3
DTSTAMP:20260423T085226Z
URL:https://business.pataskalachamber.com/events/details/blood-drive-03-19-2023-3100
END:VEVENT

END:VCALENDAR
