BEGIN:VCALENDAR
VERSION:2.0
PRODID:-//ChamberMaster//Event Calendar 2.0//EN
METHOD:PUBLISH
X-PUBLISHED-TTL:P3D
REFRESH-INTERVAL:P3D
CALSCALE:GREGORIAN
BEGIN:VEVENT
DTSTART:20260818T153000Z
DTEND:20260818T170000Z
X-MICROSOFT-CDO-ALLDAYEVENT:FALSE
SUMMARY:August Chamber Meeting
DESCRIPTION:Join us for the August Chamber Meeting!\n\nWe are excited to invite you to our\n\nAugust Chamber meeting. This month's event will be held at the Pataskala Public Library and will feature a panel of financial advisors speaking on expert advice on starting\, closing\, and growing your business!\n\nEvent Details:\n\n\n	Date: Tuesday\, August 18th\n	Time: 11:30- 1pm\n	Location: Pataskala Public Library\n\n\nDon't miss this opportunity to network with fellow members\, gain valuable knowledge\, and contribute to our community's growth. \n\nLunch: TBD\n\nWe look forward to seeing you there!
X-ALT-DESC;FMTTYPE=text/html:<p style="color: rgb(51\, 51\, 51)\; font-family: sans-serif\, Arial\, Verdana\, &quot\;Trebuchet MS&quot\;\; font-size: 28px\;"><span style="font-size: 36px\;"><span style="color: rgb(0\, 0\, 205)\;"><strong>Join us for the August&nbsp\;Chamber Meeting!</strong></span></span></p>\n\n<p style="color: rgb(51\, 51\, 51)\; font-family: sans-serif\, Arial\, Verdana\, &quot\;Trebuchet MS&quot\;\; font-size: 28px\;">We are excited to invite you to our<br />\nAugust Chamber meeting. This month&#39\;s event will be held at the Pataskala Public Library&nbsp\;and will feature a panel of financial advisors&nbsp\;speaking on expert advice on&nbsp\;starting\, closing\, and growing your business!</p>\n\n<p style="color: rgb(51\, 51\, 51)\; font-family: sans-serif\, Arial\, Verdana\, &quot\;Trebuchet MS&quot\;\; font-size: 28px\;"><strong>Event Details:</strong></p>\n\n<ul style="padding: 0px 40px\; color: rgb(51\, 51\, 51)\; font-family: sans-serif\, Arial\, Verdana\, &quot\;Trebuchet MS&quot\;\; font-size: 28px\;">\n	<li><strong>Date:</strong>&nbsp\;Tuesday\, August 18th</li>\n	<li><strong>Time:</strong>&nbsp\;11:30- 1pm</li>\n	<li><strong>Location:</strong>&nbsp\;Pataskala Public Library</li>\n</ul>\n\n<p style="color: rgb(51\, 51\, 51)\; font-family: sans-serif\, Arial\, Verdana\, &quot\;Trebuchet MS&quot\;\; font-size: 28px\;">Don&#39\;t miss this opportunity to network with fellow members\, gain valuable knowledge\, and contribute to our community&#39\;s growth.&nbsp\;<br />\n<strong>Lunch:</strong>&nbsp\;TBD</p>\n\n<p style="color: rgb(51\, 51\, 51)\; font-family: sans-serif\, Arial\, Verdana\, &quot\;Trebuchet MS&quot\;\; font-size: 28px\;">We look forward to seeing you there!</p>\n
LOCATION:
UID:e.2415.3388
SEQUENCE:3
DTSTAMP:20260421T024923Z
URL:https://business.pataskalachamber.com/events/details/august-chamber-meeting-3388
END:VEVENT

END:VCALENDAR
