BEGIN:VCALENDAR
VERSION:2.0
PRODID:-//ChamberMaster//Event Calendar 2.0//EN
METHOD:PUBLISH
X-PUBLISHED-TTL:P3D
REFRESH-INTERVAL:P3D
CALSCALE:GREGORIAN
BEGIN:VEVENT
DTSTART:20230722T120000Z
DTEND:20230722T160000Z
X-MICROSOFT-CDO-ALLDAYEVENT:FALSE
SUMMARY:2023 For Your Health 5K Run/Walk & 1-mile Fun Walk
DESCRIPTION:For Your Health 5K Run/Walk & 1-mile Fun Walk
X-ALT-DESC;FMTTYPE=text/html:<span style="font-size:22px\;"><em><strong>For Your Health 5K Run/Walk &amp\; 1-mile Fun Walk</strong></em></span>
LOCATION:The Dawes Arboretum 7770 Jacksontown Road Newark\, Ohio
UID:e.2415.3174
SEQUENCE:3
DTSTAMP:20260421T025424Z
URL:https://business.pataskalachamber.com/events/details/2023-for-your-health-5k-run-walk-1-mile-fun-walk-3174
END:VEVENT

END:VCALENDAR
